BEGIN:VCALENDAR
VERSION:2.0
PRODID:-//Matching in Practice - ECPv5.14.2.1//NONSGML v1.0//EN
CALSCALE:GREGORIAN
METHOD:PUBLISH
X-WR-CALNAME:Matching in Practice
X-ORIGINAL-URL:https://matching-in-practice.com
X-WR-CALDESC:Events for Matching in Practice
BEGIN:VTIMEZONE
TZID:Europe/Brussels
BEGIN:DAYLIGHT
TZOFFSETFROM:+0100
TZOFFSETTO:+0200
TZNAME:CEST
DTSTART:20150329T010000
END:DAYLIGHT
BEGIN:STANDARD
TZOFFSETFROM:+0200
TZOFFSETTO:+0100
TZNAME:CET
DTSTART:20151025T010000
END:STANDARD
END:VTIMEZONE
BEGIN:VEVENT
DTSTART;VALUE=DATE:20151105
DTEND;VALUE=DATE:20151108
DTSTAMP:20260421T121545
CREATED:20150623T151632Z
LAST-MODIFIED:20150623T154007Z
UID:1455-1446681600-1446940799@matching-in-practice.com
SUMMARY:UECE Lisbon Meetings in Game Theory and Applications 2015
DESCRIPTION:UECE – Research Unit on Complexity and Economics and the Instituto Superior de Economia e Gestao da Universidade de Lisboa will host the seventh edition of the UECE LISBON MEETINGS\, which will take place on November 5th-7th\, 2015. \nThe conference will include Prof. Rabah Amir (The University of Iowa)\, Prof. David Levine (Washington University)\, and Prof. Paul Milgrom (Stanford University) as keynote speakers\, as well as contributed sessions on all topics\, and from all perspectives\, of game theory\, including applications and experimental work. \nSubmission of papers within the areas of theoretical\, applied and experimental game theory and related fields is encouraged. Papers can only be submitted electronically through the conference website. Complete submissions must be received by July 31st\, 2015. \nOrganizers: \nFilomena Garcia – ISEG/UECE and Indiana University \nJoana Pais – ISEG/UECE \nJoana Resende – FEP \nMore information: https://sites.google.com/site/gametheorymeetings/
URL:https://matching-in-practice.com/event/uece-lisbon-meetings-in-game-theory-and-applications-2015/
CATEGORIES:Other Relevant Events
END:VEVENT
END:VCALENDAR