BEGIN:VCALENDAR
VERSION:2.0
PRODID:-//Matching in Practice - ECPv5.14.2.1//NONSGML v1.0//EN
CALSCALE:GREGORIAN
METHOD:PUBLISH
X-WR-CALNAME:Matching in Practice
X-ORIGINAL-URL:https://matching-in-practice.com
X-WR-CALDESC:Events for Matching in Practice
BEGIN:VTIMEZONE
TZID:Europe/Brussels
BEGIN:DAYLIGHT
TZOFFSETFROM:+0100
TZOFFSETTO:+0200
TZNAME:CEST
DTSTART:20140330T010000
END:DAYLIGHT
BEGIN:STANDARD
TZOFFSETFROM:+0200
TZOFFSETTO:+0100
TZNAME:CET
DTSTART:20141026T010000
END:STANDARD
END:VTIMEZONE
BEGIN:VEVENT
DTSTART;VALUE=DATE:20140725
DTEND;VALUE=DATE:20140801
DTSTAMP:20260419T154943
CREATED:20140311T101011Z
LAST-MODIFIED:20140630T203138Z
UID:1075-1406246400-1406851199@matching-in-practice.com
SUMMARY:Matching at the Int'l Workshop on Game Theory and Economic applications of the Game Theory Society
DESCRIPTION:São Paulo will be the place to be this summer for people interested in matching. On the occasion of her 70th birthday\, Marilda Sotomayor is organizing a great conference together with a string of 7 mini-courses on relevant topics (Market Design\, by Al Roth\, Social Choice and Fair allocation\, by Hervé Moulin\, to cite just a few).  The list of confirmed speakers is impressive (incl. Nobel laureates Robert Aumann\, John Nash\, Eric Maskin and Al Roth).  More info at http://www.iwgts.fea.usp.br/ \nThe deadline for submissions is March 15\, 2014
URL:https://matching-in-practice.com/event/matching-at-the-intl-workshop-on-game-theory-and-economic-applications-of-the-game-theory-society/
LOCATION:University of São Paulo\, São Paulo\, Brazil
CATEGORIES:Other Relevant Events
END:VEVENT
END:VCALENDAR