BEGIN:VCALENDAR
VERSION:2.0
PRODID:-//Matching in Practice - ECPv5.14.2.1//NONSGML v1.0//EN
CALSCALE:GREGORIAN
METHOD:PUBLISH
X-WR-CALNAME:Matching in Practice
X-ORIGINAL-URL:https://matching-in-practice.com
X-WR-CALDESC:Events for Matching in Practice
BEGIN:VTIMEZONE
TZID:Europe/Brussels
BEGIN:DAYLIGHT
TZOFFSETFROM:+0100
TZOFFSETTO:+0200
TZNAME:CEST
DTSTART:20120325T010000
END:DAYLIGHT
BEGIN:STANDARD
TZOFFSETFROM:+0200
TZOFFSETTO:+0100
TZNAME:CET
DTSTART:20121028T010000
END:STANDARD
END:VTIMEZONE
BEGIN:VEVENT
DTSTART;VALUE=DATE:20120719
DTEND;VALUE=DATE:20120721
DTSTAMP:20260419T140001
CREATED:20130503T214814Z
LAST-MODIFIED:20130503T214814Z
UID:351-1342656000-1342828799@matching-in-practice.com
SUMMARY:Interdisciplinary MATCH-UP (Matching under Preferences) workshop
DESCRIPTION:
URL:https://matching-in-practice.com/event/interdisciplinary-match-up-matching-under-preferences-workshop/
LOCATION:Unnamed Venue\, Budapest\, Hungary
CATEGORIES:Other Relevant Events
END:VEVENT
END:VCALENDAR