BEGIN:VCALENDAR
VERSION:2.0
PRODID:-//Matching in Practice - ECPv5.14.2.1//NONSGML v1.0//EN
CALSCALE:GREGORIAN
METHOD:PUBLISH
X-WR-CALNAME:Matching in Practice
X-ORIGINAL-URL:https://matching-in-practice.com
X-WR-CALDESC:Events for Matching in Practice
BEGIN:VTIMEZONE
TZID:Europe/Brussels
BEGIN:DAYLIGHT
TZOFFSETFROM:+0100
TZOFFSETTO:+0200
TZNAME:CEST
DTSTART:20100328T010000
END:DAYLIGHT
BEGIN:STANDARD
TZOFFSETFROM:+0200
TZOFFSETTO:+0100
TZNAME:CET
DTSTART:20101031T010000
END:STANDARD
END:VTIMEZONE
BEGIN:VEVENT
DTSTART;VALUE=DATE:20101115
DTEND;VALUE=DATE:20101116
DTSTAMP:20260419T135746
CREATED:20130503T221657Z
LAST-MODIFIED:20150115T140657Z
UID:365-1289779200-1289865599@matching-in-practice.com
SUMMARY:First Workshop Matching in Practice
DESCRIPTION:  \n09.45 – 10.00   Introduction of all workshop participants \n10.00 – 10.55   Peter Biró (Hungarian Academy of Sciences): “The Hungarian Higher Education Matching Scheme”\n10.55 – 11.50   Alex Westkamp (University of Bonn):  “An Analysis of the German University Admissions System”\n11.50 – 12.05   Coffee Break\n12.05 – 13.00   Patrick Legros (ECARES Brussels) “Rock and Roll Bands: (In)complete Contracts and Creativity”\n13.00 – 13.45   LUNCH\n13.45 – 14.30   Informal discussion about how the network could be useful\n14.30 – 14.45   Coffee Break \n14.45 – 15.40   Estelle Cantillon (ECARES\, Université Libre de Bruxelles): “The Multi-unit Assignment Problem: Theory and Evidence from Course Allocation at Harvard” \n15.40 – 16.35   Antonio Nicolò (University of Padova): “Pairwise Kidney Exchange: Age-Based Preferences” \n16.35 – 17.30   Alexey Kushnir (University of Zurich):“Preference Signaling in Matching Markets” \nProgram \nParticipants \n 
URL:https://matching-in-practice.com/event/first-workshop-matching-in-practice/
LOCATION:WZB\, Berlin\, Germany
CATEGORIES:Network-sponsored events
END:VEVENT
END:VCALENDAR