BEGIN:VCALENDAR
VERSION:2.0
PRODID:-//Matching in Practice - ECPv5.14.2.1//NONSGML v1.0//EN
CALSCALE:GREGORIAN
METHOD:PUBLISH
X-WR-CALNAME:Matching in Practice
X-ORIGINAL-URL:https://matching-in-practice.com
X-WR-CALDESC:Events for Matching in Practice
BEGIN:VTIMEZONE
TZID:Europe/Brussels
BEGIN:DAYLIGHT
TZOFFSETFROM:+0100
TZOFFSETTO:+0200
TZNAME:CEST
DTSTART:20140330T010000
END:DAYLIGHT
BEGIN:STANDARD
TZOFFSETFROM:+0200
TZOFFSETTO:+0100
TZNAME:CET
DTSTART:20141026T010000
END:STANDARD
END:VTIMEZONE
BEGIN:VEVENT
DTSTART;TZID=Europe/Brussels:20140616T120000
DTEND;TZID=Europe/Brussels:20140617T140000
DTSTAMP:20260419T135847
CREATED:20140131T134307Z
LAST-MODIFIED:20140724T145415Z
UID:730-1402920000-1403013600@matching-in-practice.com
SUMMARY:7th Workshop Matching in Practice
DESCRIPTION:Our seventh workshop will take place in Berlin from June 16 around noon till June 17 noon.  The program combines theoretical and empirical work on school choice and other matching applications. The topic for our traditional roundtable will be “University Admissions in Germany” \nScientific program \n12:30 – 13:30  Registration and lunch \n13:30 – 15:45  School choice: empirics \nMonique de Haan\, Pieter Gautier\, Hessel Oosterbeek\, and Bas van der Klaauw\nMatching pupils to secondary schools in Amsterdam: An empirical evaluation using administrative and survey data \nAnna Makles and Kerstin Schneider\nMuch Ado about Nothing? The Role of Primary School Catchment Areas for Ethnic School Segregation. Evidence from a Policy Reform \nGabrielle Fack\, Julien Grenet\, and Yinghua He\nEstimating Preferences in School Choice Mechanisms: Theoretical Foundations and Empirical Approaches \n15.45 – 16:15 Coffee Break \n16:15 – 17:45 Welfare in matching mechanisms \nLi Chen\nCentralized University Admissions with Information \nIsa Hafalir and Antonio Miralles\nWelfare-Maximizing Assignment of Agents to Hierarchical Positions \n19:00 Dinner \nTuesday\, June 17\, 2014 \n9:30 – 11:15 Preference manipulation in school choice mechanisms \nTimo Mennle and Sven Seuken\nThe Adaptive Boston Mechanism \nDavid Cantala and Juan Sebastian Pereyra\nThe Effects of Preferences Manipulations Under the Boston Mechanism \nUmut Dur and Onur Kesten\nAppeals Process in New York City High School Match \n11:15 – 11:45 Coffee Break \n11:45 – 12:45 Round Table Discussion: University Admissions in Germany \nDr. Matthias Bode\, Stiftung für Hochschulzulassung\, Dortmund \nDr. Alexander Rindfleisch\, Technische Universität Berlin\, Referat für Zulassung und Immatrikulation \nModerator: Yinghua He \n12:45 Lunch and end of workshop \nParticipants \nVenue \nRoom A300\, WZB\, Reichpietschufer 50\, 10785 Berlin
URL:https://matching-in-practice.com/event/7th-workshop-matching-in-practice/
LOCATION:WZB Berlin\, Reichpietschufer 50\, Berlin\, 10785\, Germany
CATEGORIES:Network-sponsored events
END:VEVENT
END:VCALENDAR