BEGIN:VCALENDAR
VERSION:2.0
PRODID:-//Matching in Practice - ECPv5.14.2.1//NONSGML v1.0//EN
CALSCALE:GREGORIAN
METHOD:PUBLISH
X-WR-CALNAME:Matching in Practice
X-ORIGINAL-URL:https://matching-in-practice.com
X-WR-CALDESC:Events for Matching in Practice
BEGIN:VTIMEZONE
TZID:Europe/Brussels
BEGIN:DAYLIGHT
TZOFFSETFROM:+0100
TZOFFSETTO:+0200
TZNAME:CEST
DTSTART:20150329T010000
END:DAYLIGHT
BEGIN:STANDARD
TZOFFSETFROM:+0200
TZOFFSETTO:+0100
TZNAME:CET
DTSTART:20151025T010000
END:STANDARD
END:VTIMEZONE
BEGIN:VEVENT
DTSTART;TZID=Europe/Brussels:20151202T120000
DTEND;TZID=Europe/Brussels:20151203T140000
DTSTAMP:20260421T121257
CREATED:20150720T091815Z
LAST-MODIFIED:20151027T090352Z
UID:1466-1449057600-1449151200@matching-in-practice.com
SUMMARY:10th workshop Matching in Practice
DESCRIPTION:Mark your calendar: our next workshop will take place on Dec 2-3\, 2015 in Toulouse. Yeon-Koo Che will be the keynote speaker\, and our policy roundtable will deal with a very timely topic: the Refugee crisis in Europe and how Matching could contribute to its solution. \nDetailed program is available here. \nTo register for the workshop:\nhttp://register.tse-fr.eu/conf.php?key=match \nDeadline for registration:\nNoon\, 9 Novermber 2015 (Central European Time) \nFor questions\, please contact:\nStéphanie Risser\nPhone: +33 (0)5 67 73 27 67\nstephanie.risser@tse-fr.eu \nWebpage at TSE:\nhttps://www.tse-fr.eu/conferences/2015-tenth-workshop-matching-practice?lang=en \nThe scientific committee is made of Yinghua He\, Thierry Magnas\, Antonio Miralles and Joana Pais.
URL:https://matching-in-practice.com/event/10th-workshop-matching-in-practice/
LOCATION:Toulouse School of Economics\, Toulouse\, France
CATEGORIES:Network-sponsored events
END:VEVENT
END:VCALENDAR